BEGIN:VCALENDAR
VERSION:2.0
PRODID:icalendar-ruby
CALSCALE:GREGORIAN
METHOD:PUBLISH
BEGIN:VEVENT
DTSTAMP:20260424T093954Z
UID:896-120674@nb.anglican.ca
DTSTART;VALUE=DATE:20260817
DTEND;VALUE=DATE:20260822
CLASS:PUBLIC
CREATED:20260422T145034
DESCRIPTION:St. Michael’s is an annual conference in the Anglican traditi
 on for youth aged 13–19. Together we pray\, study\, and play. Since 1987
 \, St Michael’s has formed a vibrant community within the Anglican Churc
 h in the Maritimes. Our conference participants—or Michaelites!—don’
 t do things by half measures. When we worship\, we worship God reverently 
 in spirit and truth. When we study\, we challenge ourselves to learn deepl
 y. When we kick back for games and activities\, we make sure that we have 
 a blast.\nWebsite  |  Facebook
LAST-MODIFIED:20260422T145034
LOCATION:Camp Wildwood\, McKee's Mills\, NB
SUMMARY:St. Michael's Youth Conference - Maritimes
URL;VALUE=URI:https://www.nb.anglican.ca/events/st-michaels-youth-conferenc
 e-maritimes--896/2026-08-17
ATTACH;FILENAME=SMYC.png;FMTTYPE=image/png:https://dq5pwpg1q8ru0.cloudfront
 .net/2025/08/12/18/46/47/ad478b4d-0be9-4d81-9168-a763086e1985/SMYC.png
END:VEVENT
END:VCALENDAR
