BEGIN:VCALENDAR
VERSION:2.0
PRODID:icalendar-ruby
CALSCALE:GREGORIAN
METHOD:PUBLISH
BEGIN:VEVENT
DTSTAMP:20260424T093955Z
UID:907-120280@nb.anglican.ca
DTSTART:20260927T190000Z
DTEND:20260930T170000Z
CLASS:PUBLIC
CREATED:20260421T155733
DESCRIPTION:Come\, relax and enjoy camp life. Experience archery\, canoeing
 \, specialty art projects\, hiking\, wellness stretching\, work projects\,
  games and campfire (storytime) while living in a Christian community. Gr
 eat food and lodging provided.\n\nGeared towards adults 50 and up\, but al
 l adults are welcome.\n\nArrival: Sunday 4 p.m.\nDeparture: Wednesday 2 p.
 m.
LAST-MODIFIED:20260421T155733
LOCATION:Camp Medley
SUMMARY:Seniors' Retreat
URL;VALUE=URI:https://www.nb.anglican.ca/events/seniors-retreat/2026-09-27
END:VEVENT
END:VCALENDAR
