BEGIN:VCALENDAR
VERSION:2.0
PRODID:icalendar-ruby
CALSCALE:GREGORIAN
METHOD:PUBLISH
BEGIN:VEVENT
DTSTAMP:20260423T144910Z
UID:978-120525@nb.anglican.ca
DTSTART:20260425T113000Z
DTEND:20260425T190000Z
CLASS:PUBLIC
CREATED:20260422T134019
DESCRIPTION:Retirement isn’t just a financial transition\; it’s a life 
 transition. Taking time to prepare can make all the difference.\nThe Dioce
 san Human Resources Committee invites you to a pre-retirement conference d
 esigned to help you think ahead with clarity and confidence. This event is
  open to all lay employees and active or retired clergy\, at any stage of 
 the journey. Spouses are welcome to attend.\nTogether\, we’ll explore ke
 y areas of preparation\, including:\n\nFinancial planning\nRRSPs and savin
 gs\nHousing considerations\nLife after retirement\n\nWhether retirement is
  near or still on the horizon\, this day offers practical tools and space 
 to reflect on what’s next.\nDoors open at 8:00AM\, the program starts at
  8:30AM\, and finishes by 4PM. Lunch and refreshments will be provided.\nQ
 uestions can be directed to Ben Bourque or Susan Dickie - (506) 459-1801.
LAST-MODIFIED:20260422T134019
LOCATION:Church of St John the Evangelist\, 75 Main Street\, Fredericton\, 
 NB
SUMMARY:Pre-Retirement Conference
URL;VALUE=URI:https://www.nb.anglican.ca/events/pre-retirement-conference/2
 026-04-25
ATTACH;FILENAME=pre retirement updated.png;FMTTYPE=image/png:https://dq5pwp
 g1q8ru0.cloudfront.net/2026/04/07/16/49/59/0a3dae44-03ea-41b7-a52f-311d565
 cf816/pre%20retirement%20updated.png
END:VEVENT
END:VCALENDAR
