BEGIN:VCALENDAR
VERSION:2.0
PRODID:icalendar-ruby
CALSCALE:GREGORIAN
METHOD:PUBLISH
BEGIN:VEVENT
DTSTAMP:20260423T234335Z
UID:370-120668@nb.anglican.ca
DTSTART:20260611T170000Z
DTEND:20260611T180000Z
CLASS:PUBLIC
CREATED:20260422T143237
DESCRIPTION:Join Alongside Hope (formerly PWRDF) staff and friends for a ti
 me of prayer and reflection for the partners\, volunteers and staff of PWR
 DF (name changing to Alongside Hope)\, monthly on the second Thursday at 2
 :00 pm (Atlantic)\, followed by a virtual coffee time.\nRegister here to r
 eceive a reminder email with link as well as a link to the recording after
  each session.\nMay's reflector will be ACC Primate Shane Parker.\n
LAST-MODIFIED:20260422T143237
LOCATION:Zoom
SUMMARY:Praying with Alongside Hope
URL;VALUE=URI:https://www.nb.anglican.ca/events/praying-with-alongside-hope
 /2026-06-11
ATTACH;FILENAME=Praying-AlongsideHope.png;FMTTYPE=image/png:https://dq5pwpg
 1q8ru0.cloudfront.net/2026/04/13/13/03/23/286f75f3-def1-4b28-a826-5f65d751
 c804/Praying-AlongsideHope.png
END:VEVENT
END:VCALENDAR
