BEGIN:VCALENDAR
VERSION:2.0
PRODID:icalendar-ruby
CALSCALE:GREGORIAN
METHOD:PUBLISH
BEGIN:VEVENT
DTSTAMP:20260425T000544Z
UID:987-120677@nb.anglican.ca
DTSTART:20260912T180000Z
DTEND:20260912T200000Z
CLASS:PUBLIC
CREATED:20260422T145835
DESCRIPTION:Clergy and layreaders are invited to vest and process. \nA rec
 eption at Cathedral Memorial Hall will follow the service.\nMore details t
 o follow.
LAST-MODIFIED:20260422T145835
LOCATION:Christ Church Cathedral\, 150 Church St.\, Fredericton
SUMMARY:Ordinations to the Priesthood and Diaconate
URL;VALUE=URI:https://www.nb.anglican.ca/events/ordinations-to-the-priestho
 od-and-diaconate/2026-09-12
ATTACH;FILENAME=Ordinations.png;FMTTYPE=image/png:https://dq5pwpg1q8ru0.clo
 udfront.net/2026/04/19/00/17/34/d7755b96-0bf9-481d-b58f-654f86b9c0cb/Ordin
 ations.png
END:VEVENT
END:VCALENDAR
