BEGIN:VCALENDAR
VERSION:2.0
PRODID:icalendar-ruby
CALSCALE:GREGORIAN
METHOD:PUBLISH
BEGIN:VEVENT
DTSTAMP:20260424T093955Z
UID:990-120672@nb.anglican.ca
DTSTART:20260806T180000Z
DTEND:20260809T160000Z
CLASS:PUBLIC
CREATED:20260422T144707
DESCRIPTION:An all-ages retreat affiliated with United Christian Ashrams.\n
 The theme is always: Jesus is Lord!
LAST-MODIFIED:20260422T144707
LOCATION:Beulah Camp and Conference Centre\, Browns Flat\, NB
SUMMARY:New Brunswick Christian Ashram
URL;VALUE=URI:https://www.nb.anglican.ca/events/new-brunswick-christian-ash
 ram/2026-08-06
ATTACH;FILENAME=nbca_2026_event_graphic.jpg;FMTTYPE=image/jpeg:https://dq5p
 wpg1q8ru0.cloudfront.net/2026/04/22/17/47/07/560738bf-96da-454b-aaa3-8943a
 de92b2d/nbca_2026_event_graphic.jpg
END:VEVENT
END:VCALENDAR
