BEGIN:VCALENDAR
VERSION:2.0
PRODID:icalendar-ruby
CALSCALE:GREGORIAN
METHOD:PUBLISH
BEGIN:VEVENT
DTSTAMP:20260425T033301Z
UID:981-116888@nb.anglican.ca
DTSTART:20260425T121500Z
DTEND:20260425T180000Z
CLASS:PUBLIC
CREATED:20260407T135655
DESCRIPTION:
LAST-MODIFIED:20260407T135655
LOCATION:St. Mary and St. Bartholomew's\, 646 Westmorland Road\, Saint John
SUMMARY:Mothers' Union Diocesan Rally
URL;VALUE=URI:https://www.nb.anglican.ca/events/mothers-union-diocesan-rall
 y--981/2026-04-25
ATTACH;FILENAME=2026 Mothers Union Rally logo.png;FMTTYPE=image/png:https:/
 /dq5pwpg1q8ru0.cloudfront.net/2026/03/20/14/35/12/9bcdb52f-5afc-48e1-b1b6-
 12623e558f1d/2026%20Mothers%20Union%20Rally%20logo.png
ATTACH;FILENAME=2026 Mothers' Union Rally Poster.png;FMTTYPE=image/png:http
 s://dq5pwpg1q8ru0.cloudfront.net/2026/03/20/14/35/12/1dc01c77-263a-46cd-bf
 01-8be069798c37/2026%20Mothers'%20Union%20Rally%20Poster.png
END:VEVENT
END:VCALENDAR
