BEGIN:VCALENDAR
VERSION:2.0
PRODID:icalendar-ruby
CALSCALE:GREGORIAN
METHOD:PUBLISH
BEGIN:VEVENT
DTSTAMP:20260424T045939Z
UID:979-112435@nb.anglican.ca
DTSTART:20260506T123000Z
DTEND:20260506T190000Z
CLASS:PUBLIC
CREATED:20260318T092457
DESCRIPTION:Clergy Day with Diana Butler Bass\nJoin us for a day of connect
 ion\, conversation\, and encouragement as we gather as a diocesan communit
 y of leaders.\nThe day will begin with coffee and refreshments at 9:30AM\,
  and the gathering will formally start at 10:00AM. Together\, we’ll shar
 e updates from the Archbishop\, along with a time of prayer &amp\; Communi
 on.\nWe are especially pleased to welcome Diana Butler Bass\, who will be 
 with us while in the diocese for an evening event at the Cathedral. Diana 
 is an award-winning author\, speaker\, and leading voice on religion and c
 ontemporary spirituality. Known for her engaging and accessible approach\,
  she brings thoughtful insight into the changing landscape of church and f
 aith in today’s world. During our time together\, she will offer a speci
 al session for clergy and ministry leaders\, creating space for reflection
 \, learning\, and conversation.\nLunch will be provided.\nAll active clerg
 y\, licensed lay evangelists\, and ministry students are warmly encouraged
  to attend.\nPlease RSVP to assist with planning and catering.
LAST-MODIFIED:20260318T092457
LOCATION:St Margaret's Church\, 775 Forest Hill Road\, Fredericton NB
SUMMARY:Clergy Day
URL;VALUE=URI:https://www.nb.anglican.ca/events/clergy-day--979/2026-05-06
ATTACH;FILENAME=Clergy-Day.png;FMTTYPE=image/png:https://dq5pwpg1q8ru0.clou
 dfront.net/2026/03/18/12/16/53/c06736df-30ab-4227-a137-5fd84e583c80/Clergy
 -Day.png
END:VEVENT
END:VCALENDAR
