BEGIN:VCALENDAR
VERSION:2.0
PRODID:icalendar-ruby
CALSCALE:GREGORIAN
METHOD:PUBLISH
BEGIN:VEVENT
DTSTAMP:20260424T093957Z
UID:991-120678@nb.anglican.ca
DTSTART:20260620T120000Z
DTEND:20260620T180000Z
CLASS:PUBLIC
CREATED:20260423T100950
DESCRIPTION:
LAST-MODIFIED:20260423T100950
LOCATION:
SUMMARY:Camp Medley Open House
URL;VALUE=URI:https://www.nb.anglican.ca/events/camp-medley-open-house/2026
 -06-20
ATTACH;FILENAME=Medley_80th_10.jpg;FMTTYPE=image/jpeg:https://dq5pwpg1q8ru0
 .cloudfront.net/2026/04/23/13/09/50/df36524e-6c2c-4e17-84f9-a8302388b326/M
 edley_80th_10.jpg
END:VEVENT
END:VCALENDAR
