BEGIN:VCALENDAR
VERSION:2.0
PRODID:icalendar-ruby
CALSCALE:GREGORIAN
METHOD:PUBLISH
BEGIN:VEVENT
DTSTAMP:20260424T093956Z
UID:283-120529@nb.anglican.ca
DTSTART:20260513T130000Z
DTEND:20260513T180000Z
CLASS:PUBLIC
CREATED:20260422T135245
DESCRIPTION:Meeting of the Bishop\, Dean\, Archdeacons
LAST-MODIFIED:20260422T135245
LOCATION:
SUMMARY:Bishop's Counsel
URL;VALUE=URI:https://www.nb.anglican.ca/events/bishops-counsel--283/2026-0
 5-13
ATTACH;FILENAME=TheBishop.png;FMTTYPE=image/png:https://dq5pwpg1q8ru0.cloud
 front.net/2019/10/25/11/32/35/4c1efe36-fb6d-4350-b793-156cb484a5d2/TheBish
 op.png
END:VEVENT
END:VCALENDAR
