BEGIN:VCALENDAR
VERSION:2.0
PRODID:icalendar-ruby
CALSCALE:GREGORIAN
METHOD:PUBLISH
BEGIN:VEVENT
DTSTAMP:20260424T093954Z
UID:976-111901@nb.anglican.ca
DTSTART:20260517T140000Z
DTEND:20260517T150000Z
CLASS:PUBLIC
CREATED:20260316T095101
DESCRIPTION:
LAST-MODIFIED:20260316T095101
LOCATION:86 Rue de l'Église Edmundston
SUMMARY:Archbishop:  Parish of Madawaska
URL;VALUE=URI:https://www.nb.anglican.ca/events/archbishop-parish-of-madawa
 ska--976/2026-05-17
ATTACH;FILENAME=The Bishop - for web event listing.png;FMTTYPE=image/png:ht
 tps://dq5pwpg1q8ru0.cloudfront.net/2026/03/16/12/51/01/73a81bcf-cf1e-4c77-
 8484-91c49e229b8e/The%20Bishop%20-%20for%20web%20event%20listing.png
END:VEVENT
END:VCALENDAR
