BEGIN:VCALENDAR
VERSION:2.0
PRODID:icalendar-ruby
CALSCALE:GREGORIAN
METHOD:PUBLISH
BEGIN:VEVENT
DTSTAMP:20260425T022446Z
UID:973-110876@nb.anglican.ca
DTSTART:20260913T140000Z
DTEND:20260913T160000Z
CLASS:PUBLIC
CREATED:20260311T104027
DESCRIPTION:
LAST-MODIFIED:20260311T104027
LOCATION:207 Wellington St.\, Miramichi
SUMMARY:Archbishop:  Parish of Chatham
URL;VALUE=URI:https://www.nb.anglican.ca/events/archbishop-parish-of-chatha
 m--973/2026-09-13
ATTACH;FILENAME=confirmation.png;FMTTYPE=image/png:https://dq5pwpg1q8ru0.cl
 oudfront.net/2026/03/11/13/32/16/80247fd6-69ba-4572-8456-0f6f289efb2e/conf
 irmation.png
END:VEVENT
END:VCALENDAR
