BEGIN:VCALENDAR
VERSION:2.0
PRODID:icalendar-ruby
CALSCALE:GREGORIAN
METHOD:PUBLISH
BEGIN:VEVENT
DTSTAMP:20260423T223337Z
UID:972-111338@nb.anglican.ca
DTSTART:20261129T151500Z
DTEND:20261129T170000Z
CLASS:PUBLIC
CREATED:20260313T152813
DESCRIPTION:
LAST-MODIFIED:20260313T152813
LOCATION:4332 Heritage Drive Tracy\, NB
SUMMARY:Archbishop: Confirmation
URL;VALUE=URI:https://www.nb.anglican.ca/events/archbishop-confirmation--97
 2/2026-11-29
ATTACH;FILENAME=confirmation.png;FMTTYPE=image/png:https://dq5pwpg1q8ru0.cl
 oudfront.net/2026/03/05/13/47/20/d4ff7b9e-caf2-49df-bd5e-dd3c6f4ccbec/conf
 irmation.png
END:VEVENT
END:VCALENDAR
